BEGIN:VCALENDAR
VERSION:2.0
PRODID:-//Chris Bellamy - ECPv6.15.17.1//NONSGML v1.0//EN
CALSCALE:GREGORIAN
METHOD:PUBLISH
X-WR-CALNAME:Chris Bellamy
X-ORIGINAL-URL:https://chrisbellamy.com
X-WR-CALDESC:Events for Chris Bellamy
REFRESH-INTERVAL;VALUE=DURATION:PT1H
X-Robots-Tag:noindex
X-PUBLISHED-TTL:PT1H
BEGIN:VTIMEZONE
TZID:America/New_York
BEGIN:DAYLIGHT
TZOFFSETFROM:-0500
TZOFFSETTO:-0400
TZNAME:EDT
DTSTART:20250309T070000
END:DAYLIGHT
BEGIN:STANDARD
TZOFFSETFROM:-0400
TZOFFSETTO:-0500
TZNAME:EST
DTSTART:20251102T060000
END:STANDARD
BEGIN:DAYLIGHT
TZOFFSETFROM:-0500
TZOFFSETTO:-0400
TZNAME:EDT
DTSTART:20260308T070000
END:DAYLIGHT
BEGIN:STANDARD
TZOFFSETFROM:-0400
TZOFFSETTO:-0500
TZNAME:EST
DTSTART:20261101T060000
END:STANDARD
BEGIN:DAYLIGHT
TZOFFSETFROM:-0500
TZOFFSETTO:-0400
TZNAME:EDT
DTSTART:20270314T070000
END:DAYLIGHT
BEGIN:STANDARD
TZOFFSETFROM:-0400
TZOFFSETTO:-0500
TZNAME:EST
DTSTART:20271107T060000
END:STANDARD
END:VTIMEZONE
BEGIN:VEVENT
DTSTART;TZID=America/New_York:20260422T170000
DTEND;TZID=America/New_York:20260422T203000
DTSTAMP:20260422T133523
CREATED:20260414T140230Z
LAST-MODIFIED:20260414T140231Z
UID:2413-1776877200-1776889800@chrisbellamy.com
SUMMARY:On the Edge Bar and Grill
DESCRIPTION:
URL:https://chrisbellamy.com/event/on-the-edge-bar-and-grill-12/
LOCATION:On The Edge Bar & Grill\, 1136 Seaway Dr\, Fort Pierce\, FL\, 34949
END:VEVENT
END:VCALENDAR